BEGIN:VCALENDAR
VERSION:2.0
PRODID:-//eventon.com NONSGML v1.0//EN
CALSCALE:GREGORIAN
METHOD:PUBLISH
BEGIN:VEVENT
UID:69e759d2687d0
DTSTAMP:20260421T110450Z
DTSTART:20250826T113000Z
DTEND:20250826T150000Z
LOCATION:Parking des Écoles
SUMMARY:Agence mobile Ilévia
DESCRIPTION:L’Agence mobile d’Ilévia sera présente sur le parking des
  écoles le JEUDI 26 AOUT de 13h30 à 17h00 pour la création de votre cart
 e Pass Pass\,  la vente de titres et abonnements.\nhttps://toufflers.fr/ind
 ex.php/events/agence-mobile-ilevia/
URL:https://toufflers.fr/index.php/events/agence-mobile-ilevia/
END:VEVENT
END:VCALENDAR