BEGIN:VCALENDAR
VERSION:2.0
PRODID:-//eventon.com NONSGML v1.0//EN
CALSCALE:GREGORIAN
METHOD:PUBLISH
BEGIN:VEVENT
UID:69e754f577f2c
DTSTAMP:20260421T104405Z
DTSTART:20250521T120000Z
DTEND:20250521T130000Z
LOCATION:Bibliothèque 7 rue des Champs
SUMMARY:Spectacle de marionnettes
DESCRIPTION:Spectacle de marionnettes\nhttps://toufflers.fr/index.php/event
 s/spectacle-de-marionnettes/
URL:https://toufflers.fr/index.php/events/spectacle-de-marionnettes/
END:VEVENT
END:VCALENDAR