BEGIN:VCALENDAR
VERSION:2.0
PRODID:-//eventon.com NONSGML v1.0//EN
CALSCALE:GREGORIAN
METHOD:PUBLISH
BEGIN:VEVENT
UID:69e649f2d67ab
DTSTAMP:20260420T154450Z
DTSTART:20260523T180000Z
DTEND:20260523T215900Z
LOCATION:La Chênaie 32 rue de Lys
SUMMARY:Concert de Coyote & Co
DESCRIPTION:Concert de Coyote & Co\nhttps://toufflers.fr/index.php/events/c
 oncert-de-coyote-co/
URL:https://toufflers.fr/index.php/events/concert-de-coyote-co/
END:VEVENT
END:VCALENDAR